BEGIN:VCALENDAR
VERSION:2.0
PRODID:-//Colchester East Hants Hospice Society - ECPv6.15.20//NONSGML v1.0//EN
CALSCALE:GREGORIAN
METHOD:PUBLISH
X-WR-CALNAME:Colchester East Hants Hospice Society
X-ORIGINAL-URL:https://cehhospice.org
X-WR-CALDESC:Events for Colchester East Hants Hospice Society
REFRESH-INTERVAL;VALUE=DURATION:PT1H
X-Robots-Tag:noindex
X-PUBLISHED-TTL:PT1H
BEGIN:VTIMEZONE
TZID:America/Halifax
BEGIN:DAYLIGHT
TZOFFSETFROM:-0400
TZOFFSETTO:-0300
TZNAME:ADT
DTSTART:20250309T060000
END:DAYLIGHT
BEGIN:STANDARD
TZOFFSETFROM:-0300
TZOFFSETTO:-0400
TZNAME:AST
DTSTART:20251102T050000
END:STANDARD
BEGIN:DAYLIGHT
TZOFFSETFROM:-0400
TZOFFSETTO:-0300
TZNAME:ADT
DTSTART:20260308T060000
END:DAYLIGHT
BEGIN:STANDARD
TZOFFSETFROM:-0300
TZOFFSETTO:-0400
TZNAME:AST
DTSTART:20261101T050000
END:STANDARD
BEGIN:DAYLIGHT
TZOFFSETFROM:-0400
TZOFFSETTO:-0300
TZNAME:ADT
DTSTART:20270314T060000
END:DAYLIGHT
BEGIN:STANDARD
TZOFFSETFROM:-0300
TZOFFSETTO:-0400
TZNAME:AST
DTSTART:20271107T050000
END:STANDARD
END:VTIMEZONE
BEGIN:VEVENT
DTSTART;VALUE=DATE:20260724
DTEND;VALUE=DATE:20260725
DTSTAMP:20260421T091128
CREATED:20260313T171625Z
LAST-MODIFIED:20260313T172724Z
UID:817-1784851200-1784937599@cehhospice.org
SUMMARY:Annual Golf Tournament
DESCRIPTION:More details coming soon!
URL:https://cehhospice.org/event/annual-golf-tournament/
LOCATION:Truro Golf Club\, 86 Golf Street\, Truro\, Nova Scotia\, B2N 5C7\, Canada
CATEGORIES:Special Event
END:VEVENT
END:VCALENDAR