BEGIN:VCALENDAR
VERSION:2.0
PRODID:-//Colchester East Hants Hospice Society - ECPv6.15.20//NONSGML v1.0//EN
CALSCALE:GREGORIAN
METHOD:PUBLISH
X-WR-CALNAME:Colchester East Hants Hospice Society
X-ORIGINAL-URL:https://cehhospice.org
X-WR-CALDESC:Events for Colchester East Hants Hospice Society
REFRESH-INTERVAL;VALUE=DURATION:PT1H
X-Robots-Tag:noindex
X-PUBLISHED-TTL:PT1H
BEGIN:VTIMEZONE
TZID:America/Halifax
BEGIN:DAYLIGHT
TZOFFSETFROM:-0400
TZOFFSETTO:-0300
TZNAME:ADT
DTSTART:20250309T060000
END:DAYLIGHT
BEGIN:STANDARD
TZOFFSETFROM:-0300
TZOFFSETTO:-0400
TZNAME:AST
DTSTART:20251102T050000
END:STANDARD
BEGIN:DAYLIGHT
TZOFFSETFROM:-0400
TZOFFSETTO:-0300
TZNAME:ADT
DTSTART:20260308T060000
END:DAYLIGHT
BEGIN:STANDARD
TZOFFSETFROM:-0300
TZOFFSETTO:-0400
TZNAME:AST
DTSTART:20261101T050000
END:STANDARD
BEGIN:DAYLIGHT
TZOFFSETFROM:-0400
TZOFFSETTO:-0300
TZNAME:ADT
DTSTART:20270314T060000
END:DAYLIGHT
BEGIN:STANDARD
TZOFFSETFROM:-0300
TZOFFSETTO:-0400
TZNAME:AST
DTSTART:20271107T050000
END:STANDARD
END:VTIMEZONE
BEGIN:VEVENT
DTSTART;TZID=America/Halifax:20260520T130000
DTEND;TZID=America/Halifax:20260520T150000
DTSTAMP:20260421T061033
CREATED:20260313T165904Z
LAST-MODIFIED:20260313T172222Z
UID:795-1779282000-1779289200@cehhospice.org
SUMMARY:Social Drop-In Session
DESCRIPTION:The drop in is free\, and no registration is required.\n\nThese sessions are an opportunity for anyone who is grieving to meet new people and find support in an informal social setting.\n\n\n\nPlease reach out to info@cehhospice.org or call 902-893-3265 for more information.
URL:https://cehhospice.org/event/social-drop-in-session-3/
LOCATION:Hospice Office\, 89 Queen Street\, Truro\, Nova Scotia\, Canada
CATEGORIES:Social Drop-In
END:VEVENT
BEGIN:VEVENT
DTSTART;TZID=America/Halifax:20260617T130000
DTEND;TZID=America/Halifax:20260617T150000
DTSTAMP:20260421T061033
CREATED:20260313T165943Z
LAST-MODIFIED:20260313T172109Z
UID:797-1781701200-1781708400@cehhospice.org
SUMMARY:Social Drop-In Session
DESCRIPTION:The drop in is free\, and no registration is required.\n\nThese sessions are an opportunity for anyone who is grieving to meet new people and find support in an informal social setting.\n\n\n\nPlease reach out to info@cehhospice.org or call 902-893-3265 for more information.
URL:https://cehhospice.org/event/social-drop-in-session-4/
LOCATION:Hospice Office\, 89 Queen Street\, Truro\, Nova Scotia\, Canada
CATEGORIES:Social Drop-In
END:VEVENT
END:VCALENDAR